BEGIN:VCALENDAR
VERSION:2.0
PRODID:-//Liceum Bydgoszcz Szkoła podstawowa, Przedszkole - ECPv6.15.17//NONSGML v1.0//EN
CALSCALE:GREGORIAN
METHOD:PUBLISH
X-WR-CALNAME:Liceum Bydgoszcz Szkoła podstawowa, Przedszkole
X-ORIGINAL-URL:https://www.perpetuummobile.edu.pl
X-WR-CALDESC:Wydarzenia dla Liceum Bydgoszcz Szkoła podstawowa, Przedszkole
REFRESH-INTERVAL;VALUE=DURATION:PT1H
X-Robots-Tag:noindex
X-PUBLISHED-TTL:PT1H
BEGIN:VTIMEZONE
TZID:UTC
BEGIN:STANDARD
TZOFFSETFROM:+0000
TZOFFSETTO:+0000
TZNAME:UTC
DTSTART:20250101T000000
END:STANDARD
END:VTIMEZONE
BEGIN:VEVENT
DTSTART;TZID=UTC:20260125T120000
DTEND;TZID=UTC:20260125T133000
DTSTAMP:20260420T142643
CREATED:20251209T131841Z
LAST-MODIFIED:20251209T131851Z
UID:2917-1769342400-1769347800@www.perpetuummobile.edu.pl
SUMMARY:Potańcówka rodzinna w stylu lat 50\, 60 i 70tych – Pałace Ostromecko
DESCRIPTION:UWAGA\, UWAGA! Szykujcie Dzwony i Marynarki w Grochy!\nRodzina! Czas na prawdziwą podróż w czasie! Zapraszamy Was na niezapomnianą\, międzypokoleniową prywatkę w rytmie największych przebojów lat 50.\, 60. i 70.! Przygotujcie się na wieczór pełen nostalgii\, tańca (kto pamięta twista?)\, pysznego jedzenia w stylu retro i mnóstwo rodzinnej zabawy!\nGdzie: Sala balowa Pałac Nowy OstromeckoStyl: Retro! Zachęcamy do przebrania się w stroje z epoki (rozkloszowane spódnice\, dzwony\, kolorowe koszule)\, ale najważniejszy jest dobry humor!\nBilety: Tutaj\nW programie:\n\nHity Zdzisławy Sośnickiej\, Bohdana Łazuki\, Anny Jantar i Czesława Niemena\nKonkursy taneczne i quizy wiedzy o tamtych latach\nKącik fotograficzny w stylu vintage\nPrzekąski\, które pamiętają Wasi dziadkowie!\n\nBędzie to idealna okazja\, by połączyć pokolenia i pokazać\, że muzyka tamtych lat wciąż potrafi rozbujać parkiet!\nWystąpią muzycy: instrumentaliści i wokaliści z krwi i kości – dla których czas stanął w miejscu i nie potrafią zapomnieć o doskonałych piosenkach polskich z lat 50\, 60 i 70tych.\nNie możemy się doczekać\, by zobaczyć Was w akcji!\nOrganizatorzy: Fundacja Kreatywnej Edukacji\, Placówki Perpetuum Mobile\, Miejsce Centrum Kultury\, Pałace Ostromecko\, Polski Instytutu Pedagogiki EE Gordona\, Polskie Towarzystwo EE Gordona
URL:https://www.perpetuummobile.edu.pl/wydarzenie/potancowka-rodzinna-w-stylu-lat-50-60-i-70tych-palace-ostromecko/
LOCATION:Zespół Pałacowo-Parkowy w Ostromecku\, ul. Bydgoska 9\, Ostromecko\, Dąbrowa Chełmińska\, 86-070
CATEGORIES:Szkoła podstawowa
ATTACH;FMTTYPE=image/jpeg:https://www.perpetuummobile.edu.pl/wp-content/uploads/2025/12/Potancowka_koncert.jpg
END:VEVENT
END:VCALENDAR